BEGIN:VCALENDAR
VERSION:2.0
PRODID:-//Erasmus University Rotterdam//Event calender//EN
X-WR-TIMEZONE:Europe/Amsterdam
X-WR-CALNAME:Erasmus University Rotterdam - Event calender
BEGIN:VTIMEZONE
TZID:Europe/Amsterdam
X-LIC-LOCATION:Europe/Amsterdam
BEGIN:DAYLIGHT
TZOFFSETFROM:+0100
TZOFFSETTO:+0200
TZNAME:CEST
DTSTART:19700329T020000
RRULE:FREQ=YEARLY;BYMONTH=3;BYDAY=-1SU
END:DAYLIGHT
BEGIN:STANDARD
TZOFFSETFROM:+0200
TZOFFSETTO:+0100
TZNAME:CET
DTSTART:19701025T030000
RRULE:FREQ=YEARLY;BYMONTH=10;BYDAY=-1SU
END:STANDARD
END:VTIMEZONE
BEGIN:VEVENT
DTSTART;TZID=Europe/Amsterdam:20260604T120000
DTEND;TZID=Europe/Amsterdam:20260604T184500
DTSTAMP:20260421T102021Z
UID:MTc4MDU2NzIwMF8xNzgwNTkxNTAwX0VVUiBBbHVtbmkgQ2FyZWVyIERheQ==
SUMMARY:EUR Alumni Career Day
DESCRIPTION:For more information see https://www.iss.nl/evenementen/eur-alumni-career-day-2026-06-04
LOCATION:Location: Theil Building
END:VEVENT
END:VCALENDAR
