BEGIN:VCALENDAR
VERSION:2.0
PRODID:-//Erasmus University Rotterdam//Event calender//EN
X-WR-TIMEZONE:Europe/Amsterdam
X-WR-CALNAME:Erasmus University Rotterdam - Event calender
BEGIN:VTIMEZONE
TZID:Europe/Amsterdam
X-LIC-LOCATION:Europe/Amsterdam
BEGIN:DAYLIGHT
TZOFFSETFROM:+0100
TZOFFSETTO:+0200
TZNAME:CEST
DTSTART:19700329T020000
RRULE:FREQ=YEARLY;BYMONTH=3;BYDAY=-1SU
END:DAYLIGHT
BEGIN:STANDARD
TZOFFSETFROM:+0200
TZOFFSETTO:+0100
TZNAME:CET
DTSTART:19701025T030000
RRULE:FREQ=YEARLY;BYMONTH=10;BYDAY=-1SU
END:STANDARD
END:VTIMEZONE
BEGIN:VEVENT
DTSTART;TZID=Europe/Amsterdam:20260416T153000
DTEND;TZID=Europe/Amsterdam:20260416T170000
DTSTAMP:20260420T232559Z
UID:MTc3NjM0NjIwMF8xNzc2MzUxNjAwX1Bhc3QgTGVzc29ucyBhbmQgRnV0dXJlIFBhdGh3YXlzIGZvciBJbnRlcm5hdGlvbmFsIERldmVsb3BtZW50IENvb3BlcmF0aW9uIA==
SUMMARY:Past Lessons and Future Pathways for International Development Cooperation 
DESCRIPTION:For more information see https://www.iss.nl/en/events/past-lessons-and-future-pathways-international-development-cooperation-2026-04-16
LOCATION:Room: Atrium | Location:  International Institute of Social Studies
END:VEVENT
END:VCALENDAR
