BEGIN:VCALENDAR
VERSION:2.0
PRODID:-//Erasmus University Rotterdam//Event calender//EN
X-WR-TIMEZONE:Europe/Amsterdam
X-WR-CALNAME:Erasmus University Rotterdam - Event calender
BEGIN:VTIMEZONE
TZID:Europe/Amsterdam
X-LIC-LOCATION:Europe/Amsterdam
BEGIN:DAYLIGHT
TZOFFSETFROM:+0100
TZOFFSETTO:+0200
TZNAME:CEST
DTSTART:19700329T020000
RRULE:FREQ=YEARLY;BYMONTH=3;BYDAY=-1SU
END:DAYLIGHT
BEGIN:STANDARD
TZOFFSETFROM:+0200
TZOFFSETTO:+0100
TZNAME:CET
DTSTART:19701025T030000
RRULE:FREQ=YEARLY;BYMONTH=10;BYDAY=-1SU
END:STANDARD
END:VTIMEZONE
BEGIN:VEVENT
DTSTART;TZID=Europe/Amsterdam:20260521T161500
DTEND;TZID=Europe/Amsterdam:20260521T173000
DTSTAMP:20260423T042157Z
UID:MTc3OTM3MjkwMF8xNzc5Mzc3NDAwX09pbCBleHBvcnRlcnM6IGZvb2QgaW1wb3J0ZXJzIC0gQm9vayBsYXVuY2ggTW9uYXJjaGllcyBvZiBFeHRyYWN0aW9u
SUMMARY:Oil exporters: food importers - Book launch Monarchies of Extraction
DESCRIPTION:For more information see https://www.iss.nl/en/events/oil-exporters-food-importers-book-launch-monarchies-extraction-2026-05-21
LOCATION:Room: Atrium | Location:  International Institute of Social Studies
END:VEVENT
END:VCALENDAR
