BEGIN:VCALENDAR
VERSION:2.0
PRODID:-//Erasmus University Rotterdam//Event calender//EN
X-WR-TIMEZONE:Europe/Amsterdam
X-WR-CALNAME:Erasmus University Rotterdam - Event calender
BEGIN:VTIMEZONE
TZID:Europe/Amsterdam
X-LIC-LOCATION:Europe/Amsterdam
BEGIN:DAYLIGHT
TZOFFSETFROM:+0100
TZOFFSETTO:+0200
TZNAME:CEST
DTSTART:19700329T020000
RRULE:FREQ=YEARLY;BYMONTH=3;BYDAY=-1SU
END:DAYLIGHT
BEGIN:STANDARD
TZOFFSETFROM:+0200
TZOFFSETTO:+0100
TZNAME:CET
DTSTART:19701025T030000
RRULE:FREQ=YEARLY;BYMONTH=10;BYDAY=-1SU
END:STANDARD
END:VTIMEZONE
BEGIN:VEVENT
DTSTART;TZID=Europe/Amsterdam:20180412T160046
DTEND;TZID=Europe/Amsterdam:20180412T173003
DTSTAMP:20260420T103426Z
UID:MTUyMzU0MTY0Nl8xNTIzNTQ3MDAzXydVbmV2ZW4gUHJvZHVjdGlvbiBvZiBTcGFjZSBpbiB0aGUgUnVzdCBCZWx0OiBFY29ub21pYyBEZXZlbG9wbWVudCBhbmQgRGl2aWRlZCBVcmJhbiBTcGFjZSBpbiBCdWZmYWxvIE5ZJw==
SUMMARY:&#039;Uneven Production of Space in the Rust Belt: Economic Development and Divided Urban Space in Buffalo NY&#039;
DESCRIPTION:For more information see https://www.iss.nl/en/events/uneven-production-space-rust-belt-economic-development-and-divided-urban-space-buffalo-ny-2018-04-12
LOCATION:Room: 4.14 | Location:  International Institute of Social Studies
END:VEVENT
END:VCALENDAR
