BEGIN:VCALENDAR
VERSION:2.0
PRODID:-//Erasmus University Rotterdam//Event calender//EN
X-WR-TIMEZONE:Europe/Amsterdam
X-WR-CALNAME:Erasmus University Rotterdam - Event calender
BEGIN:VTIMEZONE
TZID:Europe/Amsterdam
X-LIC-LOCATION:Europe/Amsterdam
BEGIN:DAYLIGHT
TZOFFSETFROM:+0100
TZOFFSETTO:+0200
TZNAME:CEST
DTSTART:19700329T020000
RRULE:FREQ=YEARLY;BYMONTH=3;BYDAY=-1SU
END:DAYLIGHT
BEGIN:STANDARD
TZOFFSETFROM:+0200
TZOFFSETTO:+0100
TZNAME:CET
DTSTART:19701025T030000
RRULE:FREQ=YEARLY;BYMONTH=10;BYDAY=-1SU
END:STANDARD
END:VTIMEZONE
BEGIN:VEVENT
DTSTART;TZID=Europe/Amsterdam:20181130T161533
DTEND;TZID=Europe/Amsterdam:20181130T174551
DTSTAMP:20260422T223941Z
UID:MTU0MzU5MDkzM18xNTQzNTk2MzUxXydNb2JpbGlzaW5nIEludGVybmF0aW9uYWwgTGF3IGZvciAiR2xvYmFsIEp1c3RpY2UiJw==
SUMMARY:&#039;Mobilising International Law for &quot;Global Justice&quot;&#039;
DESCRIPTION:For more information see https://www.iss.nl/en/events/mobilising-international-law-global-justice-2018-11-30
LOCATION:Room: Aula B | Location:  International Institute of Social Studies
END:VEVENT
END:VCALENDAR
