BEGIN:VCALENDAR
VERSION:2.0
PRODID:-//Erasmus University Rotterdam//Event calender//EN
X-WR-TIMEZONE:Europe/Amsterdam
X-WR-CALNAME:Erasmus University Rotterdam - Event calender
BEGIN:VTIMEZONE
TZID:Europe/Amsterdam
X-LIC-LOCATION:Europe/Amsterdam
BEGIN:DAYLIGHT
TZOFFSETFROM:+0100
TZOFFSETTO:+0200
TZNAME:CEST
DTSTART:19700329T020000
RRULE:FREQ=YEARLY;BYMONTH=3;BYDAY=-1SU
END:DAYLIGHT
BEGIN:STANDARD
TZOFFSETFROM:+0200
TZOFFSETTO:+0100
TZNAME:CET
DTSTART:19701025T030000
RRULE:FREQ=YEARLY;BYMONTH=10;BYDAY=-1SU
END:STANDARD
END:VTIMEZONE
BEGIN:VEVENT
DTSTART;TZID=Europe/Amsterdam:20181206T160029
DTEND;TZID=Europe/Amsterdam:20181206T173047
DTSTAMP:20260422T191039Z
UID:MTU0NDEwODQyOV8xNTQ0MTEzODQ3XydSaXNlIG9mIHJlZ3VsYXRvcnkgcmVnaW9uYWxpc20gYW5kIHRyYW5zYm91bmRhcnkgaHlkcm9wb3dlciBkZXZlbG9wbWVudCBpbiBMYW9zJw==
SUMMARY:&#039;Rise of regulatory regionalism and transboundary hydropower development in Laos&#039;
DESCRIPTION:For more information see https://www.iss.nl/en/events/rise-regulatory-regionalism-and-transboundary-hydropower-development-laos-2018-12-06
LOCATION:Room: Aula A | Location:  International Institute of Social Studies
END:VEVENT
END:VCALENDAR
