BEGIN:VCALENDAR
VERSION:2.0
PRODID:-//Erasmus University Rotterdam//Event calender//EN
X-WR-TIMEZONE:Europe/Amsterdam
X-WR-CALNAME:Erasmus University Rotterdam - Event calender
BEGIN:VTIMEZONE
TZID:Europe/Amsterdam
X-LIC-LOCATION:Europe/Amsterdam
BEGIN:DAYLIGHT
TZOFFSETFROM:+0100
TZOFFSETTO:+0200
TZNAME:CEST
DTSTART:19700329T020000
RRULE:FREQ=YEARLY;BYMONTH=3;BYDAY=-1SU
END:DAYLIGHT
BEGIN:STANDARD
TZOFFSETFROM:+0200
TZOFFSETTO:+0100
TZNAME:CET
DTSTART:19701025T030000
RRULE:FREQ=YEARLY;BYMONTH=10;BYDAY=-1SU
END:STANDARD
END:VTIMEZONE
BEGIN:VEVENT
DTSTART;TZID=Europe/Amsterdam:20190321T163056
DTEND;TZID=Europe/Amsterdam:20190321T180016
DTSTAMP:20260420T205223Z
UID:MTU1MzE4MjI1Nl8xNTUzMTg3NjE2X1Z1bG5lcmFiaWxpdHkgdmVyc3VzIFJlc2lsaWVuY2U6IFRoZSBwb2xpdGljcyBvZiBsYW5ndWFnZSBpbiBkaXNhc3RlciByaXNrIHJlZHVjdGlvbiBhbmQgY2xpbWF0ZSBjaGFuZ2UgYWRhcHRhdGlvbi4=
SUMMARY:Vulnerability versus Resilience: The politics of language in disaster risk reduction and climate change adaptation.
DESCRIPTION:For more information see https://www.iss.nl/en/events/vulnerability-versus-resilience-politics-language-disaster-risk-reduction-and-climate-change-2019-03-21
LOCATION:Room: Aula B | Location:  International Institute of Social Studies
END:VEVENT
END:VCALENDAR
