BEGIN:VCALENDAR
VERSION:2.0
PRODID:-//Erasmus University Rotterdam//Event calender//EN
X-WR-TIMEZONE:Europe/Amsterdam
X-WR-CALNAME:Erasmus University Rotterdam - Event calender
BEGIN:VTIMEZONE
TZID:Europe/Amsterdam
X-LIC-LOCATION:Europe/Amsterdam
BEGIN:DAYLIGHT
TZOFFSETFROM:+0100
TZOFFSETTO:+0200
TZNAME:CEST
DTSTART:19700329T020000
RRULE:FREQ=YEARLY;BYMONTH=3;BYDAY=-1SU
END:DAYLIGHT
BEGIN:STANDARD
TZOFFSETFROM:+0200
TZOFFSETTO:+0100
TZNAME:CET
DTSTART:19701025T030000
RRULE:FREQ=YEARLY;BYMONTH=10;BYDAY=-1SU
END:STANDARD
END:VTIMEZONE
BEGIN:VEVENT
DTSTART;TZID=Europe/Amsterdam:20201125T110014
DTEND;TZID=Europe/Amsterdam:20201125T123024
DTSTAMP:20260424T001833Z
UID:MTYwNjI5ODQxNF8xNjA2MzAzODI0X0NvbW11bml0eSBzb2xpZGFyaXR5IGluIFRoZSBIYWd1ZSBkdXJpbmcgdGhlIHBhbmRlbWljOiBXaGF0IGNhbiB3ZSBsZWFybj8=
SUMMARY:Community solidarity in The Hague during the pandemic: What can we learn?
DESCRIPTION:For more information see https://www.iss.nl/en/events/community-solidarity-hague-during-pandemic-what-can-we-learn-2020-11-25
LOCATION:
END:VEVENT
END:VCALENDAR
