BEGIN:VCALENDAR
VERSION:2.0
PRODID:-//Erasmus University Rotterdam//Event calender//EN
X-WR-TIMEZONE:Europe/Amsterdam
X-WR-CALNAME:Erasmus University Rotterdam - Event calender
BEGIN:VTIMEZONE
TZID:Europe/Amsterdam
X-LIC-LOCATION:Europe/Amsterdam
BEGIN:DAYLIGHT
TZOFFSETFROM:+0100
TZOFFSETTO:+0200
TZNAME:CEST
DTSTART:19700329T020000
RRULE:FREQ=YEARLY;BYMONTH=3;BYDAY=-1SU
END:DAYLIGHT
BEGIN:STANDARD
TZOFFSETFROM:+0200
TZOFFSETTO:+0100
TZNAME:CET
DTSTART:19701025T030000
RRULE:FREQ=YEARLY;BYMONTH=10;BYDAY=-1SU
END:STANDARD
END:VTIMEZONE
BEGIN:VEVENT
DTSTART;TZID=Europe/Amsterdam:20201222T130000
DTEND;TZID=Europe/Amsterdam:20201222T140000
DTSTAMP:20260424T192231Z
UID:MTYwODYzODQwMF8xNjA4NjQyMDAwX1NleCB3b3JrZXJz4oCZIGV2ZXJ5ZGF5IHNlY3VyaXR5IGluIHRoZSBOZXRoZXJsYW5kcyBhbmQgdGhlIGltcGFjdCBvZiBDT1ZJRC0xOQ==
SUMMARY:Sex workers’ everyday security in the Netherlands and the impact of COVID-19
DESCRIPTION:For more information see https://www.iss.nl/en/events/sex-workers-everyday-security-netherlands-and-impact-covid-19-2020-12-22
LOCATION:
END:VEVENT
END:VCALENDAR
