BEGIN:VCALENDAR
VERSION:2.0
PRODID:-//Erasmus University Rotterdam//Event calender//EN
X-WR-TIMEZONE:Europe/Amsterdam
X-WR-CALNAME:Erasmus University Rotterdam - Event calender
BEGIN:VTIMEZONE
TZID:Europe/Amsterdam
X-LIC-LOCATION:Europe/Amsterdam
BEGIN:DAYLIGHT
TZOFFSETFROM:+0100
TZOFFSETTO:+0200
TZNAME:CEST
DTSTART:19700329T020000
RRULE:FREQ=YEARLY;BYMONTH=3;BYDAY=-1SU
END:DAYLIGHT
BEGIN:STANDARD
TZOFFSETFROM:+0200
TZOFFSETTO:+0100
TZNAME:CET
DTSTART:19701025T030000
RRULE:FREQ=YEARLY;BYMONTH=10;BYDAY=-1SU
END:STANDARD
END:VTIMEZONE
BEGIN:VEVENT
DTSTART;TZID=Europe/Amsterdam:20210225T130000
DTEND;TZID=Europe/Amsterdam:20210225T140000
DTSTAMP:20260421T105245Z
UID:MTYxNDI1NDQwMF8xNjE0MjU4MDAwX1RoZSBnbG9iYWwgZW52aXJvbm1lbnRhbCBjcmlzaXMgYW5kIGVtaXNzaW9uIHJpZ2h0czogdGhlIHJpc2Ugb2YgZ3JlZW4gZXh0cmFjdGl2aXNtIGluIE1vemFtYmlxdWU=
SUMMARY:The global environmental crisis and emission rights: the rise of green extractivism in Mozambique
DESCRIPTION:For more information see https://www.iss.nl/en/events/global-environmental-crisis-and-emission-rights-rise-green-extractivism-mozambique-2021-02-25
LOCATION:Room: This is an online event via Zoom
END:VEVENT
END:VCALENDAR
