BEGIN:VCALENDAR
VERSION:2.0
PRODID:-//Erasmus University Rotterdam//Event calender//EN
X-WR-TIMEZONE:Europe/Amsterdam
X-WR-CALNAME:Erasmus University Rotterdam - Event calender
BEGIN:VTIMEZONE
TZID:Europe/Amsterdam
X-LIC-LOCATION:Europe/Amsterdam
BEGIN:DAYLIGHT
TZOFFSETFROM:+0100
TZOFFSETTO:+0200
TZNAME:CEST
DTSTART:19700329T020000
RRULE:FREQ=YEARLY;BYMONTH=3;BYDAY=-1SU
END:DAYLIGHT
BEGIN:STANDARD
TZOFFSETFROM:+0200
TZOFFSETTO:+0100
TZNAME:CET
DTSTART:19701025T030000
RRULE:FREQ=YEARLY;BYMONTH=10;BYDAY=-1SU
END:STANDARD
END:VTIMEZONE
BEGIN:VEVENT
DTSTART;TZID=Europe/Amsterdam:20221010T090000
DTEND;TZID=Europe/Amsterdam:20221014T180000
DTSTAMP:20260421T120525Z
UID:MTY2NTM4NTIwMF8xNjY1NzYzMjAwX0xldCdzIHJlY29ubmVjdCEgSVNTIDcwdGggYW5uaXZlcnNhcnkgY2VsZWJyYXRpb25z
SUMMARY:Let&#039;s reconnect! ISS 70th anniversary celebrations
DESCRIPTION:For more information see https://www.iss.nl/en/events/lets-reconnect-iss-70th-anniversary-celebrations-2022-10-10
LOCATION:
END:VEVENT
END:VCALENDAR
