BEGIN:VCALENDAR
VERSION:2.0
PRODID:-//Erasmus University Rotterdam//Event calender//EN
X-WR-TIMEZONE:Europe/Amsterdam
X-WR-CALNAME:Erasmus University Rotterdam - Event calender
BEGIN:VTIMEZONE
TZID:Europe/Amsterdam
X-LIC-LOCATION:Europe/Amsterdam
BEGIN:DAYLIGHT
TZOFFSETFROM:+0100
TZOFFSETTO:+0200
TZNAME:CEST
DTSTART:19700329T020000
RRULE:FREQ=YEARLY;BYMONTH=3;BYDAY=-1SU
END:DAYLIGHT
BEGIN:STANDARD
TZOFFSETFROM:+0200
TZOFFSETTO:+0100
TZNAME:CET
DTSTART:19701025T030000
RRULE:FREQ=YEARLY;BYMONTH=10;BYDAY=-1SU
END:STANDARD
END:VTIMEZONE
BEGIN:VEVENT
DTSTART;TZID=Europe/Amsterdam:20221019T124000
DTEND;TZID=Europe/Amsterdam:20221019T190000
DTSTAMP:20260421T143711Z
UID:MTY2NjE3NjAwMF8xNjY2MTk4ODAwX0NyaXNpcywgY2xpbWF0ZSBhbmQgY2hhbGxlbmdlcyAmIG9wcG9ydHVuaXRpZXMgb2YgdXJiYW4gYWdyaWN1bHR1cmU=
SUMMARY:Crisis, climate and challenges &amp; opportunities of urban agriculture
DESCRIPTION:For more information see https://www.iss.nl/en/events/crisis-climate-and-challenges-opportunities-urban-agriculture-2022-10-19
LOCATION:
END:VEVENT
END:VCALENDAR
