BEGIN:VCALENDAR
VERSION:2.0
PRODID:-//Erasmus University Rotterdam//Event calender//EN
X-WR-TIMEZONE:Europe/Amsterdam
X-WR-CALNAME:Erasmus University Rotterdam - Event calender
BEGIN:VTIMEZONE
TZID:Europe/Amsterdam
X-LIC-LOCATION:Europe/Amsterdam
BEGIN:DAYLIGHT
TZOFFSETFROM:+0100
TZOFFSETTO:+0200
TZNAME:CEST
DTSTART:19700329T020000
RRULE:FREQ=YEARLY;BYMONTH=3;BYDAY=-1SU
END:DAYLIGHT
BEGIN:STANDARD
TZOFFSETFROM:+0200
TZOFFSETTO:+0100
TZNAME:CET
DTSTART:19701025T030000
RRULE:FREQ=YEARLY;BYMONTH=10;BYDAY=-1SU
END:STANDARD
END:VTIMEZONE
BEGIN:VEVENT
DTSTART;TZID=Europe/Amsterdam:20221019T161500
DTEND;TZID=Europe/Amsterdam:20221019T173000
DTSTAMP:20260421T173321Z
UID:MTY2NjE4ODkwMF8xNjY2MTkzNDAwX0NoaW5lc2UgaG9tZSBhbmQgZ3VlcnJpbGxhIGdhcmRlbmluZzogVGhlIGltcG9ydGFuY2Ugb2YgcHJldmVudGluZyB0aGUgbG9zcyBvZiBhbHJlYWR5IGV4aXN0aW5nIHN1c3RhaW5hYmlsaXR5
SUMMARY:Chinese home and guerrilla gardening: The importance of preventing the loss of already existing sustainability
DESCRIPTION:For more information see https://www.iss.nl/en/events/chinese-home-and-guerrilla-gardening-importance-preventing-loss-already-existing-sustainability-2022-10-19
LOCATION:Room: Aula A | Location:  International Institute of Social Studies
END:VEVENT
END:VCALENDAR
