BEGIN:VCALENDAR
VERSION:2.0
PRODID:-//Erasmus University Rotterdam//Event calender//EN
X-WR-TIMEZONE:Europe/Amsterdam
X-WR-CALNAME:Erasmus University Rotterdam - Event calender
BEGIN:VTIMEZONE
TZID:Europe/Amsterdam
X-LIC-LOCATION:Europe/Amsterdam
BEGIN:DAYLIGHT
TZOFFSETFROM:+0100
TZOFFSETTO:+0200
TZNAME:CEST
DTSTART:19700329T020000
RRULE:FREQ=YEARLY;BYMONTH=3;BYDAY=-1SU
END:DAYLIGHT
BEGIN:STANDARD
TZOFFSETFROM:+0200
TZOFFSETTO:+0100
TZNAME:CET
DTSTART:19701025T030000
RRULE:FREQ=YEARLY;BYMONTH=10;BYDAY=-1SU
END:STANDARD
END:VTIMEZONE
BEGIN:VEVENT
DTSTART;TZID=Europe/Amsterdam:20230530T160000
DTEND;TZID=Europe/Amsterdam:20230530T180000
DTSTAMP:20260422T193711Z
UID:MTY4NTQ1NTIwMF8xNjg1NDYyNDAwX1N3aW1taW5nIGFnYWluc3QgdGhlIHRpZGU6IERlY3JpbWluYWxpemF0aW9uIG9mIHNleCB3b3JrIGluIEJlbGdpdW0=
SUMMARY:Swimming against the tide: Decriminalization of sex work in Belgium
DESCRIPTION:For more information see https://www.iss.nl/en/events/swimming-against-tide-decriminalization-sex-work-belgium-2023-05-30
LOCATION:Room: Aula A | Location:  International Institute of Social Studies
END:VEVENT
END:VCALENDAR
