BEGIN:VCALENDAR
VERSION:2.0
PRODID:-//Erasmus University Rotterdam//Event calender//EN
X-WR-TIMEZONE:Europe/Amsterdam
X-WR-CALNAME:Erasmus University Rotterdam - Event calender
BEGIN:VTIMEZONE
TZID:Europe/Amsterdam
X-LIC-LOCATION:Europe/Amsterdam
BEGIN:DAYLIGHT
TZOFFSETFROM:+0100
TZOFFSETTO:+0200
TZNAME:CEST
DTSTART:19700329T020000
RRULE:FREQ=YEARLY;BYMONTH=3;BYDAY=-1SU
END:DAYLIGHT
BEGIN:STANDARD
TZOFFSETFROM:+0200
TZOFFSETTO:+0100
TZNAME:CET
DTSTART:19701025T030000
RRULE:FREQ=YEARLY;BYMONTH=10;BYDAY=-1SU
END:STANDARD
END:VTIMEZONE
BEGIN:VEVENT
DTSTART;TZID=Europe/Amsterdam:20230615T130000
DTEND;TZID=Europe/Amsterdam:20230615T140000
DTSTAMP:20260420T230545Z
UID:MTY4NjgyNjgwMF8xNjg2ODMwNDAwX09uZSBvciBUd28gSGVhZHM/IFRoZSBTaG9ydC1ydW4gSW1wYWN0cyBvZiB0aGUgUmUtQ2VudHJhbGl6YXRpb24gb2YgUG93ZXIgaW4gUnVyYWwgQ2hpbmE=
SUMMARY:One or Two Heads? The Short-run Impacts of the Re-Centralization of Power in Rural China
DESCRIPTION:For more information see https://www.iss.nl/en/events/one-or-two-heads-short-run-impacts-re-centralization-power-rural-china-2023-06-15
LOCATION:Room: room 4.39 | Location:  International Institute of Social Studies
END:VEVENT
END:VCALENDAR
