BEGIN:VCALENDAR
VERSION:2.0
PRODID:-//Erasmus University Rotterdam//Event calender//EN
X-WR-TIMEZONE:Europe/Amsterdam
X-WR-CALNAME:Erasmus University Rotterdam - Event calender
BEGIN:VTIMEZONE
TZID:Europe/Amsterdam
X-LIC-LOCATION:Europe/Amsterdam
BEGIN:DAYLIGHT
TZOFFSETFROM:+0100
TZOFFSETTO:+0200
TZNAME:CEST
DTSTART:19700329T020000
RRULE:FREQ=YEARLY;BYMONTH=3;BYDAY=-1SU
END:DAYLIGHT
BEGIN:STANDARD
TZOFFSETFROM:+0200
TZOFFSETTO:+0100
TZNAME:CET
DTSTART:19701025T030000
RRULE:FREQ=YEARLY;BYMONTH=10;BYDAY=-1SU
END:STANDARD
END:VTIMEZONE
BEGIN:VEVENT
DTSTART;TZID=Europe/Amsterdam:20231218T100000
DTEND;TZID=Europe/Amsterdam:20231218T120000
DTSTAMP:20260423T194447Z
UID:MTcwMjg5MDAwMF8xNzAyODk3MjAwX0ltbXVuaXR5IG9yIGltcHVuaXR5PyBMZWdhbCBicmllZmluZyBvbiBJc21haWwgWmlhZGEgdiB0aGUgTmV0aGVybGFuZHM=
SUMMARY:Immunity or impunity? Legal briefing on Ismail Ziada v the Netherlands
DESCRIPTION:For more information see https://www.iss.nl/en/events/immunity-or-impunity-legal-briefing-ismail-ziada-v-netherlands-2023-12-18
LOCATION:Room: Aula B | Location:  International Institute of Social Studies
END:VEVENT
END:VCALENDAR
