BEGIN:VCALENDAR
VERSION:2.0
PRODID:-//Erasmus University Rotterdam//Event calender//EN
X-WR-TIMEZONE:Europe/Amsterdam
X-WR-CALNAME:Erasmus University Rotterdam - Event calender
BEGIN:VTIMEZONE
TZID:Europe/Amsterdam
X-LIC-LOCATION:Europe/Amsterdam
BEGIN:DAYLIGHT
TZOFFSETFROM:+0100
TZOFFSETTO:+0200
TZNAME:CEST
DTSTART:19700329T020000
RRULE:FREQ=YEARLY;BYMONTH=3;BYDAY=-1SU
END:DAYLIGHT
BEGIN:STANDARD
TZOFFSETFROM:+0200
TZOFFSETTO:+0100
TZNAME:CET
DTSTART:19701025T030000
RRULE:FREQ=YEARLY;BYMONTH=10;BYDAY=-1SU
END:STANDARD
END:VTIMEZONE
BEGIN:VEVENT
DTSTART;TZID=Europe/Amsterdam:20250605T150000
DTEND;TZID=Europe/Amsterdam:20250605T173000
DTSTAMP:20260423T055838Z
UID:MTc0OTEyODQwMF8xNzQ5MTM3NDAwX1NoaWZ0aW5nIGdlb3BvbGl0aWNhbCBmYXVsdCBsaW5lcyBhbmQgZ2xvYmFsIGZvb2Qgc2VjdXJpdHk=
SUMMARY:Shifting geopolitical fault lines and global food security
DESCRIPTION:For more information see https://www.iss.nl/en/events/shifting-geopolitical-fault-lines-and-global-food-security-2025-06-05
LOCATION:Room: Aula A | Location:  International Institute of Social Studies
END:VEVENT
END:VCALENDAR
